BEGIN:VCALENDAR
PRODID:-//https://www.mi-di.de//midi//DE
X-PUBLISHED-TTL:PT12H
X-ORIGINAL-URL:https://www.mi-di.de/termine/raeume-die-einladen
VERSION:2.0
CALSCALE:GREGORIAN
METHOD:PUBLISH
BEGIN:VEVENT
DTSTAMP:20260424T112843Z
UID:69eb53eb37dc0
LAST-MODIFIED:20260423T121245Z
DTSTART:20260507T100000Z
DTEND:20260507T110000Z
SUMMARY:Räume, die einladen. Kirchliche Gebäude mitgliedersensibel denken und nutzen 
DESCRIPTION: 
LOCATION:Online\, ,  
URL:https://www.mi-di.de/termine/raeume-die-einladen
CLASS:PUBLIC
END:VEVENT
END:VCALENDAR