BEGIN:VCALENDAR
PRODID:-//https://www.mi-di.de//midi//DE
X-PUBLISHED-TTL:PT12H
X-ORIGINAL-URL:https://www.mi-di.de/termine/kirche-und-demokratie
VERSION:2.0
CALSCALE:GREGORIAN
METHOD:PUBLISH
BEGIN:VEVENT
DTSTAMP:20260424T142712Z
UID:69eb7dc07d024
LAST-MODIFIED:20260423T121217Z
DTSTART:20260610T100000Z
DTEND:20260610T110000Z
SUMMARY:Kirche und Demokratie. Was Mitglieder verbindet, was sie trennt 
DESCRIPTION: 
LOCATION:Online\, ,  
URL:https://www.mi-di.de/termine/kirche-und-demokratie
CLASS:PUBLIC
END:VEVENT
END:VCALENDAR