BEGIN:VCALENDAR
PRODID:-//https://www.mi-di.de//midi//DE
X-PUBLISHED-TTL:PT12H
X-ORIGINAL-URL:https://www.mi-di.de/termine/glaube-anders-erzaehlen
VERSION:2.0
CALSCALE:GREGORIAN
METHOD:PUBLISH
BEGIN:VEVENT
DTSTAMP:20260424T142304Z
UID:69eb7cc87e5b1
LAST-MODIFIED:20260423T121139Z
DTSTART:20260622T100000Z
DTEND:20260622T110000Z
SUMMARY:Glaube anders erzählen. Impulse für eine mitgliedersensible Glaubenskommunikation 
DESCRIPTION: 
LOCATION:Online\, ,  
URL:https://www.mi-di.de/termine/glaube-anders-erzaehlen
CLASS:PUBLIC
END:VEVENT
END:VCALENDAR